BEGIN:VCALENDAR
VERSION:2.0
PRODID:-//Collegio dei Geometri - ECPv5.0.3.1//NONSGML v1.0//EN
CALSCALE:GREGORIAN
METHOD:PUBLISH
X-WR-CALNAME:Collegio dei Geometri
X-ORIGINAL-URL:https://collegiogeometri.to.it
X-WR-CALDESC:Eventi per Collegio dei Geometri
BEGIN:VTIMEZONE
TZID:Europe/Rome
BEGIN:DAYLIGHT
TZOFFSETFROM:+0100
TZOFFSETTO:+0200
TZNAME:CEST
DTSTART:20200329T010000
END:DAYLIGHT
BEGIN:STANDARD
TZOFFSETFROM:+0200
TZOFFSETTO:+0100
TZNAME:CET
DTSTART:20201025T010000
END:STANDARD
END:VTIMEZONE
BEGIN:VEVENT
DTSTART;TZID=Europe/Rome:20201113T150000
DTEND;TZID=Europe/Rome:20201113T180000
DTSTAMP:20260425T132126
CREATED:20201110T143710Z
LAST-MODIFIED:20201110T143710Z
UID:24501-1605279600-1605290400@collegiogeometri.to.it
SUMMARY:Webinar gratuito "Superbonus 110%: come raggiungerlo con le pompe di calore e i sistemi ibridi dopo gli ultimi aggiornamenti"
DESCRIPTION:Tutte le informazioni e iscrizioni sulla Locandina Superbonus 13 novembre 2020 \n  \n  \n  \n  \n
URL:https://collegiogeometri.to.it/evento/webinar-gratuito-superbonus-110-come-raggiungerlo-con-le-pompe-di-calore-e-i-sistemi-ibridi-dopo-gli-ultimi-aggiornamenti/
CATEGORIES:formazione
END:VEVENT
END:VCALENDAR