BEGIN:VCALENDAR
VERSION:2.0
PRODID:-//Collegio dei Geometri - ECPv5.0.3.1//NONSGML v1.0//EN
CALSCALE:GREGORIAN
METHOD:PUBLISH
X-WR-CALNAME:Collegio dei Geometri
X-ORIGINAL-URL:https://collegiogeometri.to.it
X-WR-CALDESC:Eventi per Collegio dei Geometri
BEGIN:VTIMEZONE
TZID:Europe/Rome
BEGIN:DAYLIGHT
TZOFFSETFROM:+0100
TZOFFSETTO:+0200
TZNAME:CEST
DTSTART:20200329T010000
END:DAYLIGHT
BEGIN:STANDARD
TZOFFSETFROM:+0200
TZOFFSETTO:+0100
TZNAME:CET
DTSTART:20201025T010000
END:STANDARD
END:VTIMEZONE
BEGIN:VEVENT
DTSTART;TZID=Europe/Rome:20201120T140000
DTEND;TZID=Europe/Rome:20201120T160000
DTSTAMP:20260423T055526
CREATED:20200915T094701Z
LAST-MODIFIED:20200915T094701Z
UID:23905-1605880800-1605888000@collegiogeometri.to.it
SUMMARY:INIZIO CORSO ON-LINE "ARCHICAD AVANZATO"
DESCRIPTION:Tutte le informazioni sul corso e il form di iscrizione al seguente link: \nCORSO AVANZATO: https://www.weisoft.it/eventi-e-formazione/item/corso-avanzato-archicad-24.html \n  \n  \n  \n
URL:https://collegiogeometri.to.it/evento/inizio-corso-on-line-archicad-avanzato/
CATEGORIES:formazione
END:VEVENT
END:VCALENDAR