BEGIN:VCALENDAR
VERSION:2.0
PRODID:-//Collegio dei Geometri - ECPv5.0.3.1//NONSGML v1.0//EN
CALSCALE:GREGORIAN
METHOD:PUBLISH
X-WR-CALNAME:Collegio dei Geometri
X-ORIGINAL-URL:https://collegiogeometri.to.it
X-WR-CALDESC:Eventi per Collegio dei Geometri
BEGIN:VTIMEZONE
TZID:Europe/Rome
BEGIN:DAYLIGHT
TZOFFSETFROM:+0100
TZOFFSETTO:+0200
TZNAME:CEST
DTSTART:20200329T010000
END:DAYLIGHT
BEGIN:STANDARD
TZOFFSETFROM:+0200
TZOFFSETTO:+0100
TZNAME:CET
DTSTART:20201025T010000
END:STANDARD
END:VTIMEZONE
BEGIN:VEVENT
DTSTART;TZID=Europe/Rome:20201116T093000
DTEND;TZID=Europe/Rome:20201116T164500
DTSTAMP:20260425T131115
CREATED:20201110T143210Z
LAST-MODIFIED:20201110T143210Z
UID:24499-1605519000-1605545100@collegiogeometri.to.it
SUMMARY:Inizio Corso intensivo online SketchUp Pro 2020
DESCRIPTION:Iscrizione al seguente link \nhttps://www.weisoft.it/eventi-e-formazione/item/corso-online-sketchup-promo-2.html \n  \n  \n  \n  \n  \n
URL:https://collegiogeometri.to.it/evento/inizio-corso-intensivo-online-sketchup-pro-2020/
CATEGORIES:formazione
END:VEVENT
END:VCALENDAR