BEGIN:VCALENDAR
VERSION:2.0
PRODID:-//Collegio dei Geometri - ECPv5.0.3.1//NONSGML v1.0//EN
CALSCALE:GREGORIAN
METHOD:PUBLISH
X-WR-CALNAME:Collegio dei Geometri
X-ORIGINAL-URL:https://collegiogeometri.to.it
X-WR-CALDESC:Eventi per Collegio dei Geometri
BEGIN:VTIMEZONE
TZID:Europe/Rome
BEGIN:DAYLIGHT
TZOFFSETFROM:+0100
TZOFFSETTO:+0200
TZNAME:CEST
DTSTART:20190331T010000
END:DAYLIGHT
BEGIN:STANDARD
TZOFFSETFROM:+0200
TZOFFSETTO:+0100
TZNAME:CET
DTSTART:20191027T010000
END:STANDARD
END:VTIMEZONE
BEGIN:VEVENT
DTSTART;TZID=Europe/Rome:20191210T183000
DTEND;TZID=Europe/Rome:20191210T213000
DTSTAMP:20260421T085323
CREATED:20191128T084242Z
LAST-MODIFIED:20191128T084653Z
UID:20785-1576002600-1576013400@collegiogeometri.to.it
SUMMARY:Inizio Corso AGGIORNAMENTO IN PREVENZIONE INCENDI "ADEMPIMENTI TECNICI E BUROCRATICI PER EVENTI DI PUBBLICO SPETTACOLO E COMMISSIONI COMUNALI"
DESCRIPTION:Dettagli e iscrizione su Locandina \nPROGRAMMA \n
URL:https://collegiogeometri.to.it/evento/inizio-corso-aggiornamento-in-prevenzione-incendi-adempimenti-tecnici-e-burocratici-per-eventi-di-pubblico-spettacolo-e-commissioni-comunali/
LOCATION:Forte Chance\, Via Avellino 6\, Torino\, Italia
CATEGORIES:formazione
END:VEVENT
END:VCALENDAR