BEGIN:VCALENDAR
VERSION:2.0
PRODID:-//Collegio dei Geometri - ECPv5.0.3.1//NONSGML v1.0//EN
CALSCALE:GREGORIAN
METHOD:PUBLISH
X-WR-CALNAME:Collegio dei Geometri
X-ORIGINAL-URL:https://collegiogeometri.to.it
X-WR-CALDESC:Eventi per Collegio dei Geometri
BEGIN:VTIMEZONE
TZID:Europe/Rome
BEGIN:DAYLIGHT
TZOFFSETFROM:+0100
TZOFFSETTO:+0200
TZNAME:CEST
DTSTART:20190331T010000
END:DAYLIGHT
BEGIN:STANDARD
TZOFFSETFROM:+0200
TZOFFSETTO:+0100
TZNAME:CET
DTSTART:20191027T010000
END:STANDARD
END:VTIMEZONE
BEGIN:VEVENT
DTSTART;TZID=Europe/Rome:20191023T090000
DTEND;TZID=Europe/Rome:20191023T130000
DTSTAMP:20260425T190432
CREATED:20191004T115414Z
LAST-MODIFIED:20191004T115414Z
UID:20275-1571821200-1571835600@collegiogeometri.to.it
SUMMARY:Corso "PROCEDURE FINALIZZATE ALLA CONSERVAZIONE E REGOLARIZZAZIONE DELLE OPERE ABUSIVE" a Cuorgnè
DESCRIPTION:Dettagli e iscrizione su ISIFORMAZIONE \n
URL:https://collegiogeometri.to.it/evento/corso-procedure-finalizzate-alla-conservazione-e-regolarizzazione-delle-opere-abusive-a-cuorgne/
LOCATION:Istituto 25 Aprile\, Via XXIV Maggio 13\, Cuorgnè\, Italia
CATEGORIES:formazione
END:VEVENT
END:VCALENDAR