BEGIN:VCALENDAR
VERSION:2.0
PRODID:-//Collegio dei Geometri - ECPv5.0.3.1//NONSGML v1.0//EN
CALSCALE:GREGORIAN
METHOD:PUBLISH
X-WR-CALNAME:Collegio dei Geometri
X-ORIGINAL-URL:https://collegiogeometri.to.it
X-WR-CALDESC:Eventi per Collegio dei Geometri
BEGIN:VTIMEZONE
TZID:Europe/Rome
BEGIN:DAYLIGHT
TZOFFSETFROM:+0100
TZOFFSETTO:+0200
TZNAME:CEST
DTSTART:20200329T010000
END:DAYLIGHT
BEGIN:STANDARD
TZOFFSETFROM:+0200
TZOFFSETTO:+0100
TZNAME:CET
DTSTART:20201025T010000
END:STANDARD
END:VTIMEZONE
BEGIN:VEVENT
DTSTART;TZID=Europe/Rome:20201111T150000
DTEND;TZID=Europe/Rome:20201111T180000
DTSTAMP:20260425T155847
CREATED:20201106T121437Z
LAST-MODIFIED:20201106T121541Z
UID:24433-1605106800-1605117600@collegiogeometri.to.it
SUMMARY:Convegno online "SUPERBONUS 110%"
DESCRIPTION:Informazioni e modalità di prenotazione su ISIFORMAZIONE \n  \n
URL:https://collegiogeometri.to.it/evento/convegno-online-superbonus-110/
CATEGORIES:formazione
END:VEVENT
END:VCALENDAR