BEGIN:VCALENDAR
VERSION:2.0
PRODID:-//Collegio dei Geometri - ECPv5.0.3.1//NONSGML v1.0//EN
CALSCALE:GREGORIAN
METHOD:PUBLISH
X-WR-CALNAME:Collegio dei Geometri
X-ORIGINAL-URL:https://collegiogeometri.to.it
X-WR-CALDESC:Eventi per Collegio dei Geometri
BEGIN:VTIMEZONE
TZID:Europe/Rome
BEGIN:DAYLIGHT
TZOFFSETFROM:+0100
TZOFFSETTO:+0200
TZNAME:CEST
DTSTART:20200329T010000
END:DAYLIGHT
BEGIN:STANDARD
TZOFFSETFROM:+0200
TZOFFSETTO:+0100
TZNAME:CET
DTSTART:20201025T010000
END:STANDARD
END:VTIMEZONE
BEGIN:VEVENT
DTSTART;TZID=Europe/Rome:20201120T143000
DTEND;TZID=Europe/Rome:20201120T183000
DTSTAMP:20260423T072354
CREATED:20201110T144503Z
LAST-MODIFIED:20201110T144503Z
UID:24504-1605882600-1605897000@collegiogeometri.to.it
SUMMARY:Convegno online “Bonus in Edilizia: dalla forma alla sostanza. Le risposte delle Professioni”
DESCRIPTION:Iscrizione al seguente link https://attendee.gotowebinar.com/register/1633647090762634254 \nLocandina programma 20 NOVEMBRE 2020 \n  \n  \n  \n  \n
URL:https://collegiogeometri.to.it/evento/convegno-online-bonus-in-edilizia-dalla-forma-alla-sostanza-le-risposte-delle-professioni/
CATEGORIES:formazione
END:VEVENT
END:VCALENDAR