BEGIN:VCALENDAR
VERSION:2.0
PRODID:-//Collegio dei Geometri - ECPv5.0.3.1//NONSGML v1.0//EN
CALSCALE:GREGORIAN
METHOD:PUBLISH
X-WR-CALNAME:Collegio dei Geometri
X-ORIGINAL-URL:https://collegiogeometri.to.it
X-WR-CALDESC:Eventi per Collegio dei Geometri
BEGIN:VTIMEZONE
TZID:Europe/Rome
BEGIN:DAYLIGHT
TZOFFSETFROM:+0100
TZOFFSETTO:+0200
TZNAME:CEST
DTSTART:20200329T010000
END:DAYLIGHT
BEGIN:STANDARD
TZOFFSETFROM:+0200
TZOFFSETTO:+0100
TZNAME:CET
DTSTART:20201025T010000
END:STANDARD
END:VTIMEZONE
BEGIN:VEVENT
DTSTART;TZID=Europe/Rome:20200309T153000
DTEND;TZID=Europe/Rome:20200309T173000
DTSTAMP:20260425T102151
CREATED:20200211T102149Z
LAST-MODIFIED:20200305T133904Z
UID:21707-1583767800-1583775000@collegiogeometri.to.it
SUMMARY:Seminario "GLI STUDI DEI GEOMETRI: I DIPENDENTI\, I COLLABORATORI" - EVENTO DA RIPROGRAMMARE
DESCRIPTION:Dettagli e iscrizione su ISIFORMAZIONE \n
URL:https://collegiogeometri.to.it/evento/seminario-gli-studi-dei-geometri-i-dipendenti-i-collaboratori/
LOCATION:Collegio Geometri\, Via Toselli 1\, Torino\, Italia
CATEGORIES:seminario
END:VEVENT
END:VCALENDAR