BEGIN:VCALENDAR
VERSION:2.0
PRODID:-//Collegio dei Geometri - ECPv5.0.3.1//NONSGML v1.0//EN
CALSCALE:GREGORIAN
METHOD:PUBLISH
X-WR-CALNAME:Collegio dei Geometri
X-ORIGINAL-URL:https://collegiogeometri.to.it
X-WR-CALDESC:Eventi per Collegio dei Geometri
BEGIN:VTIMEZONE
TZID:Europe/Rome
BEGIN:DAYLIGHT
TZOFFSETFROM:+0100
TZOFFSETTO:+0200
TZNAME:CEST
DTSTART:20200329T010000
END:DAYLIGHT
BEGIN:STANDARD
TZOFFSETFROM:+0200
TZOFFSETTO:+0100
TZNAME:CET
DTSTART:20201025T010000
END:STANDARD
END:VTIMEZONE
BEGIN:VEVENT
DTSTART;TZID=Europe/Rome:20200120T090000
DTEND;TZID=Europe/Rome:20200120T130000
DTSTAMP:20260425T131034
CREATED:20200115T080838Z
LAST-MODIFIED:20200121T081944Z
UID:21302-1579510800-1579525200@collegiogeometri.to.it
SUMMARY:Seminario "SPORTELLO UNICO DIGITALE DELL'EDILIZIA - DIGITAL DAY" a Rivarolo Can.se
DESCRIPTION:Dettagli sulla Locandina Seminario Rivarolo Can.se del 20 gennaio 2020 \nModulo iscrizione \n
URL:https://collegiogeometri.to.it/evento/seminario-sportello-unico-digitale-delledilizia-digital-day/
LOCATION:Sala Consiliare Comune di Rivarolo Canavese\, Via Ivrea\, 60\, Rivarolo Canavese\, Italia
CATEGORIES:seminario
END:VEVENT
END:VCALENDAR