BEGIN:VCALENDAR
VERSION:2.0
PRODID:-//Collegio dei Geometri - ECPv5.0.3.1//NONSGML v1.0//EN
CALSCALE:GREGORIAN
METHOD:PUBLISH
X-WR-CALNAME:Collegio dei Geometri
X-ORIGINAL-URL:https://collegiogeometri.to.it
X-WR-CALDESC:Eventi per Collegio dei Geometri
BEGIN:VTIMEZONE
TZID:Europe/Rome
BEGIN:DAYLIGHT
TZOFFSETFROM:+0100
TZOFFSETTO:+0200
TZNAME:CEST
DTSTART:20190331T010000
END:DAYLIGHT
BEGIN:STANDARD
TZOFFSETFROM:+0200
TZOFFSETTO:+0100
TZNAME:CET
DTSTART:20191027T010000
END:STANDARD
END:VTIMEZONE
BEGIN:VEVENT
DTSTART;TZID=Europe/Rome:20191213T143000
DTEND;TZID=Europe/Rome:20191213T183000
DTSTAMP:20260425T144253
CREATED:20191128T083214Z
LAST-MODIFIED:20191128T083214Z
UID:20781-1576247400-1576261800@collegiogeometri.to.it
SUMMARY:Evento "BANCA DATI DEI COMPARABILI ED ALTRI SERVIZI INTEGRATI PER IL PROFESSIONISTA DELLA VALUTAZIONE"
DESCRIPTION:Programma \nDettagli e iscrizione su ISIFORMAZIONE \n
URL:https://collegiogeometri.to.it/evento/evento-banca-dati-dei-comparabili-ed-altri-servizi-integrati-per-il-professionista-della-valutazione/
LOCATION:Collegio Geometri\, Via Toselli 1\, Torino\, 10129\, Italia
CATEGORIES:seminario
END:VEVENT
END:VCALENDAR