BEGIN:VCALENDAR
VERSION:2.0
PRODID:-//Collegio dei Geometri - ECPv5.0.3.1//NONSGML v1.0//EN
CALSCALE:GREGORIAN
METHOD:PUBLISH
X-WR-CALNAME:Collegio dei Geometri
X-ORIGINAL-URL:https://collegiogeometri.to.it
X-WR-CALDESC:Eventi per Collegio dei Geometri
BEGIN:VTIMEZONE
TZID:Europe/Rome
BEGIN:DAYLIGHT
TZOFFSETFROM:+0100
TZOFFSETTO:+0200
TZNAME:CEST
DTSTART:20220327T010000
END:DAYLIGHT
BEGIN:STANDARD
TZOFFSETFROM:+0200
TZOFFSETTO:+0100
TZNAME:CET
DTSTART:20221030T010000
END:STANDARD
END:VTIMEZONE
BEGIN:VEVENT
DTSTART;VALUE=DATE:20221231
DTEND;VALUE=DATE:20230101
DTSTAMP:20260423T013503
CREATED:20220720T104106Z
LAST-MODIFIED:20220720T104106Z
UID:30251-1672444800-1672531199@collegiogeometri.to.it
SUMMARY:Cassa Geometri: Termine versamento CONTRIBUTO VOLONTARIO 2022
DESCRIPTION:Termine per il versamento del contributo volontario 2022 \n  \n  \n  \n  \n  \n  \n  \n  \n
URL:https://collegiogeometri.to.it/evento/cassa-geometri-scadenza-4-rata-contributi-previdenziali-2020-con-interessi-del-2-su-base-annua-2-2-2/
CATEGORIES:scadenza Previdenziale
END:VEVENT
END:VCALENDAR